BEGIN:VCALENDAR
VERSION:2.0
PRODID:-//maindreieck - ECPv6.15.20//NONSGML v1.0//EN
CALSCALE:GREGORIAN
METHOD:PUBLISH
X-WR-CALNAME:maindreieck
X-ORIGINAL-URL:https://maindreieck.de
X-WR-CALDESC:Veranstaltungen für maindreieck
REFRESH-INTERVAL;VALUE=DURATION:PT1H
X-Robots-Tag:noindex
X-PUBLISHED-TTL:PT1H
BEGIN:VTIMEZONE
TZID:Europe/Berlin
BEGIN:DAYLIGHT
TZOFFSETFROM:+0100
TZOFFSETTO:+0200
TZNAME:CEST
DTSTART:20240331T010000
END:DAYLIGHT
BEGIN:STANDARD
TZOFFSETFROM:+0200
TZOFFSETTO:+0100
TZNAME:CET
DTSTART:20241027T010000
END:STANDARD
BEGIN:DAYLIGHT
TZOFFSETFROM:+0100
TZOFFSETTO:+0200
TZNAME:CEST
DTSTART:20250330T010000
END:DAYLIGHT
BEGIN:STANDARD
TZOFFSETFROM:+0200
TZOFFSETTO:+0100
TZNAME:CET
DTSTART:20251026T010000
END:STANDARD
BEGIN:DAYLIGHT
TZOFFSETFROM:+0100
TZOFFSETTO:+0200
TZNAME:CEST
DTSTART:20260329T010000
END:DAYLIGHT
BEGIN:STANDARD
TZOFFSETFROM:+0200
TZOFFSETTO:+0100
TZNAME:CET
DTSTART:20261025T010000
END:STANDARD
END:VTIMEZONE
BEGIN:VEVENT
DTSTART;TZID=Europe/Berlin:20251012T133000
DTEND;TZID=Europe/Berlin:20251012T163000
DTSTAMP:20260424T102302
CREATED:20250922T101605Z
LAST-MODIFIED:20250922T103824Z
UID:10912-1760275800-1760286600@maindreieck.de
SUMMARY:25 Jahre Gästeführer Weinerlebnis Franken: Lügensteine\, Silvaner und ein magischer Ort
DESCRIPTION:Weinbergsführung durch den Eibelstädter Kapellenberg\nGästeführerin und Weindozentin Dr. Gabriele Brendel nimmt euch mit auf den LügensteinWeg durch die Eibelstädter Weinberge. Hier dreht sich alles um die Lügensteine und amüsante Geschichten zu Eibelstadt\, den Siebenlistern und natürlich dem Wein. Ziel ist das terroir f mit einer magischen Aussicht ins Maintal. \nAnmeldung bis 04.10. bei Dr. Gabriele Brendel erbeten.
URL:https://maindreieck.de/event/luegensteine-silvaner-und-ein-magischer-ort/
LOCATION:Eibelstadt\, Marktplatz\, Eibelstadt\, 97246
CATEGORIES:Bewegung,Führungen,Geselligkeit,Kulinarik,Kulturelles,Kulturherbst,unter freiem Himmel,Wanderung
ORGANIZER;CN="Dr. Gabriele Brendel":MAILTO:gabriele-brendel@t-online.de
END:VEVENT
END:VCALENDAR