BEGIN:VCALENDAR
VERSION:2.0
PRODID:-//maindreieck - ECPv6.15.20//NONSGML v1.0//EN
CALSCALE:GREGORIAN
METHOD:PUBLISH
X-ORIGINAL-URL:https://maindreieck.de
X-WR-CALDESC:Veranstaltungen für maindreieck
REFRESH-INTERVAL;VALUE=DURATION:PT1H
X-Robots-Tag:noindex
X-PUBLISHED-TTL:PT1H
BEGIN:VTIMEZONE
TZID:Europe/Berlin
BEGIN:DAYLIGHT
TZOFFSETFROM:+0100
TZOFFSETTO:+0200
TZNAME:CEST
DTSTART:20240331T010000
END:DAYLIGHT
BEGIN:STANDARD
TZOFFSETFROM:+0200
TZOFFSETTO:+0100
TZNAME:CET
DTSTART:20241027T010000
END:STANDARD
BEGIN:DAYLIGHT
TZOFFSETFROM:+0100
TZOFFSETTO:+0200
TZNAME:CEST
DTSTART:20250330T010000
END:DAYLIGHT
BEGIN:STANDARD
TZOFFSETFROM:+0200
TZOFFSETTO:+0100
TZNAME:CET
DTSTART:20251026T010000
END:STANDARD
BEGIN:DAYLIGHT
TZOFFSETFROM:+0100
TZOFFSETTO:+0200
TZNAME:CEST
DTSTART:20260329T010000
END:DAYLIGHT
BEGIN:STANDARD
TZOFFSETFROM:+0200
TZOFFSETTO:+0100
TZNAME:CET
DTSTART:20261025T010000
END:STANDARD
END:VTIMEZONE
BEGIN:VEVENT
DTSTART;TZID=Europe/Berlin:20250530T143000
DTEND;TZID=Europe/Berlin:20250530T173000
DTSTAMP:20260424T120239
CREATED:20250304T094628Z
LAST-MODIFIED:20250304T094628Z
UID:10001216-1748615400-1748626200@maindreieck.de
SUMMARY:Spaziergang mit den Heiligen
DESCRIPTION:Erfahrt auf diesem begleiteten Spaziergang am Weinheiligenweg in Frickenhausen\, was Winzer und andere landwirtschaftlich Interessierte aus bestimmten Naturereignissen herauslesen können. \nBitte auf geeignetes Schuhwerk und Kleidung achten und an Proviant denken\, es wird eine gemeinsame Pause geben. \nSpendenaktion\, Anmeldung notwendig\, Änderungen vorbehalten! \nHinweis: bis zur Kapelle steiler Anstiegt\, anschließend Weinbergswege
URL:https://maindreieck.de/event/spaziergang-mit-den-heiligen/
LOCATION:Frickenhausen a.M.\, Valentinuskapelle\, Segnitzerstr. 35\, Frickenhausen a.M.\, 97252
CATEGORIES:Führungen,Wanderung
ORGANIZER;CN="Franken Erlebnis":MAILTO:info@franken-erlebnis.de
END:VEVENT
END:VCALENDAR